BEGIN:VCALENDAR
VERSION:2.0
PRODID:-//NADI Pekan Lenga - ECPv6.15.13.1//NONSGML v1.0//EN
CALSCALE:GREGORIAN
METHOD:PUBLISH
X-WR-CALNAME:NADI Pekan Lenga
X-ORIGINAL-URL:https://pekanlenga.nadi.my
X-WR-CALDESC:Events for NADI Pekan Lenga
REFRESH-INTERVAL;VALUE=DURATION:PT1H
X-Robots-Tag:noindex
X-PUBLISHED-TTL:PT1H
BEGIN:VTIMEZONE
TZID:Asia/Kuala_Lumpur
BEGIN:STANDARD
TZOFFSETFROM:+0800
TZOFFSETTO:+0800
TZNAME:+08
DTSTART:20250101T000000
END:STANDARD
END:VTIMEZONE
BEGIN:VEVENT
DTSTART;TZID=Asia/Kuala_Lumpur:20260307T100000
DTEND;TZID=Asia/Kuala_Lumpur:20260307T110000
DTSTAMP:20260425T084909
CREATED:20260306T031759Z
LAST-MODIFIED:20260306T031759Z
UID:3255-1772877600-1772881200@pekanlenga.nadi.my
SUMMARY:ESPORT - KELAS
DESCRIPTION:
URL:https://pekanlenga.nadi.my/event/esport-kelas-2/
END:VEVENT
BEGIN:VEVENT
DTSTART;TZID=Asia/Kuala_Lumpur:20260307T100000
DTEND;TZID=Asia/Kuala_Lumpur:20260307T110000
DTSTAMP:20260425T084909
CREATED:20260306T031857Z
LAST-MODIFIED:20260306T031857Z
UID:3257-1772877600-1772881200@pekanlenga.nadi.my
SUMMARY:KEMPEN INTERNET SELAMAT : WEBINAR
DESCRIPTION:
URL:https://pekanlenga.nadi.my/event/kempen-internet-selamat-webinar/
END:VEVENT
BEGIN:VEVENT
DTSTART;TZID=Asia/Kuala_Lumpur:20260307T100000
DTEND;TZID=Asia/Kuala_Lumpur:20260307T110000
DTSTAMP:20260425T084909
CREATED:20260306T031934Z
LAST-MODIFIED:20260306T031934Z
UID:3259-1772877600-1772881200@pekanlenga.nadi.my
SUMMARY:KIDSVENTURE : WEBINAR
DESCRIPTION:
URL:https://pekanlenga.nadi.my/event/kidsventure-webinar/
END:VEVENT
BEGIN:VEVENT
DTSTART;TZID=Asia/Kuala_Lumpur:20260307T140000
DTEND;TZID=Asia/Kuala_Lumpur:20260307T160000
DTSTAMP:20260425T084909
CREATED:20260306T032023Z
LAST-MODIFIED:20260306T032023Z
UID:3261-1772892000-1772899200@pekanlenga.nadi.my
SUMMARY:TINY TECHIES : SK & SMK
DESCRIPTION:
URL:https://pekanlenga.nadi.my/event/tiny-techies-sk-smk/
END:VEVENT
END:VCALENDAR