BEGIN:VCALENDAR
VERSION:2.0
PRODID:-//NADI Pekan Lenga - ECPv6.15.13.1//NONSGML v1.0//EN
CALSCALE:GREGORIAN
METHOD:PUBLISH
X-WR-CALNAME:NADI Pekan Lenga
X-ORIGINAL-URL:https://pekanlenga.nadi.my
X-WR-CALDESC:Events for NADI Pekan Lenga
REFRESH-INTERVAL;VALUE=DURATION:PT1H
X-Robots-Tag:noindex
X-PUBLISHED-TTL:PT1H
BEGIN:VTIMEZONE
TZID:Asia/Kuala_Lumpur
BEGIN:STANDARD
TZOFFSETFROM:+0800
TZOFFSETTO:+0800
TZNAME:+08
DTSTART:20250101T000000
END:STANDARD
END:VTIMEZONE
BEGIN:VEVENT
DTSTART;TZID=Asia/Kuala_Lumpur:20260403T080000
DTEND;TZID=Asia/Kuala_Lumpur:20260403T170000
DTSTAMP:20260424T000811
CREATED:20260403T042756Z
LAST-MODIFIED:20260403T042756Z
UID:3307-1775203200-1775235600@pekanlenga.nadi.my
SUMMARY:ESPORT : KELAS
DESCRIPTION:
URL:https://pekanlenga.nadi.my/event/esport-kelas-3/
END:VEVENT
BEGIN:VEVENT
DTSTART;TZID=Asia/Kuala_Lumpur:20260403T100000
DTEND;TZID=Asia/Kuala_Lumpur:20260403T110000
DTSTAMP:20260424T000811
CREATED:20260403T042956Z
LAST-MODIFIED:20260403T042956Z
UID:3315-1775210400-1775214000@pekanlenga.nadi.my
SUMMARY:WELLBEING : HEALTH TIPS
DESCRIPTION:
URL:https://pekanlenga.nadi.my/event/wellbeing-health-tips-3/
END:VEVENT
BEGIN:VEVENT
DTSTART;TZID=Asia/Kuala_Lumpur:20260403T100000
DTEND;TZID=Asia/Kuala_Lumpur:20260403T113000
DTSTAMP:20260424T000811
CREATED:20260403T042932Z
LAST-MODIFIED:20260403T042932Z
UID:3313-1775210400-1775215800@pekanlenga.nadi.my
SUMMARY:KIDSVENTURE : WEBINAR
DESCRIPTION:
URL:https://pekanlenga.nadi.my/event/kidsventure-webinar-2/
END:VEVENT
BEGIN:VEVENT
DTSTART;TZID=Asia/Kuala_Lumpur:20260403T103000
DTEND;TZID=Asia/Kuala_Lumpur:20260403T113000
DTSTAMP:20260424T000811
CREATED:20260403T042817Z
LAST-MODIFIED:20260403T042817Z
UID:3309-1775212200-1775215800@pekanlenga.nadi.my
SUMMARY:WELLBEING : WEBINAR
DESCRIPTION:
URL:https://pekanlenga.nadi.my/event/wellbeing-webinar-4/
END:VEVENT
BEGIN:VEVENT
DTSTART;TZID=Asia/Kuala_Lumpur:20260403T153000
DTEND;TZID=Asia/Kuala_Lumpur:20260403T163000
DTSTAMP:20260424T000811
CREATED:20260403T043021Z
LAST-MODIFIED:20260403T043021Z
UID:3317-1775230200-1775233800@pekanlenga.nadi.my
SUMMARY:DILEA : OPEN TUITION MATEMATIK
DESCRIPTION:
URL:https://pekanlenga.nadi.my/event/dilea-open-tuition-matematik/
END:VEVENT
END:VCALENDAR