BEGIN:VCALENDAR
VERSION:2.0
PRODID:-//NADI Pekan Lenga - ECPv6.15.13.1//NONSGML v1.0//EN
CALSCALE:GREGORIAN
METHOD:PUBLISH
X-WR-CALNAME:NADI Pekan Lenga
X-ORIGINAL-URL:https://pekanlenga.nadi.my
X-WR-CALDESC:Events for NADI Pekan Lenga
REFRESH-INTERVAL;VALUE=DURATION:PT1H
X-Robots-Tag:noindex
X-PUBLISHED-TTL:PT1H
BEGIN:VTIMEZONE
TZID:Asia/Kuala_Lumpur
BEGIN:STANDARD
TZOFFSETFROM:+0800
TZOFFSETTO:+0800
TZNAME:+08
DTSTART:20250101T000000
END:STANDARD
END:VTIMEZONE
BEGIN:VEVENT
DTSTART;TZID=Asia/Kuala_Lumpur:20260409T100000
DTEND;TZID=Asia/Kuala_Lumpur:20260409T113000
DTSTAMP:20260425T113452
CREATED:20260403T043317Z
LAST-MODIFIED:20260403T043317Z
UID:3327-1775728800-1775734200@pekanlenga.nadi.my
SUMMARY:WELLBEING : PODCAST
DESCRIPTION:
URL:https://pekanlenga.nadi.my/event/wellbeing-podcast-4/
END:VEVENT
BEGIN:VEVENT
DTSTART;TZID=Asia/Kuala_Lumpur:20260409T100000
DTEND;TZID=Asia/Kuala_Lumpur:20260409T120000
DTSTAMP:20260425T113452
CREATED:20260403T043352Z
LAST-MODIFIED:20260403T043352Z
UID:3329-1775728800-1775736000@pekanlenga.nadi.my
SUMMARY:ENTREPRENEUR : WEBINAR
DESCRIPTION:
URL:https://pekanlenga.nadi.my/event/entrepreneur-webinar/
END:VEVENT
BEGIN:VEVENT
DTSTART;TZID=Asia/Kuala_Lumpur:20260409T150000
DTEND;TZID=Asia/Kuala_Lumpur:20260409T163000
DTSTAMP:20260425T113452
CREATED:20260403T043220Z
LAST-MODIFIED:20260403T043220Z
UID:3325-1775746800-1775752200@pekanlenga.nadi.my
SUMMARY:CYBERSECURITY : WEBINAR
DESCRIPTION:
URL:https://pekanlenga.nadi.my/event/cybersecurity-webinar-5/
END:VEVENT
END:VCALENDAR