BEGIN:VCALENDAR
VERSION:2.0
PRODID:-//NADI Pekan Lenga - ECPv6.15.13.1//NONSGML v1.0//EN
CALSCALE:GREGORIAN
METHOD:PUBLISH
X-WR-CALNAME:NADI Pekan Lenga
X-ORIGINAL-URL:https://pekanlenga.nadi.my
X-WR-CALDESC:Events for NADI Pekan Lenga
REFRESH-INTERVAL;VALUE=DURATION:PT1H
X-Robots-Tag:noindex
X-PUBLISHED-TTL:PT1H
BEGIN:VTIMEZONE
TZID:Asia/Kuala_Lumpur
BEGIN:STANDARD
TZOFFSETFROM:+0800
TZOFFSETTO:+0800
TZNAME:+08
DTSTART:20250101T000000
END:STANDARD
END:VTIMEZONE
BEGIN:VEVENT
DTSTART;TZID=Asia/Kuala_Lumpur:20260414T100000
DTEND;TZID=Asia/Kuala_Lumpur:20260414T110000
DTSTAMP:20260423T190812
CREATED:20260403T081842Z
LAST-MODIFIED:20260403T081842Z
UID:3345-1776160800-1776164400@pekanlenga.nadi.my
SUMMARY:Wellbeing : Podcast
DESCRIPTION:
URL:https://pekanlenga.nadi.my/event/wellbeing-podcast-5/
END:VEVENT
END:VCALENDAR