BEGIN:VCALENDAR
VERSION:2.0
PRODID:-//NADI Pekan Lenga - ECPv6.15.13.1//NONSGML v1.0//EN
CALSCALE:GREGORIAN
METHOD:PUBLISH
X-WR-CALNAME:NADI Pekan Lenga
X-ORIGINAL-URL:https://pekanlenga.nadi.my
X-WR-CALDESC:Events for NADI Pekan Lenga
REFRESH-INTERVAL;VALUE=DURATION:PT1H
X-Robots-Tag:noindex
X-PUBLISHED-TTL:PT1H
BEGIN:VTIMEZONE
TZID:Asia/Kuala_Lumpur
BEGIN:STANDARD
TZOFFSETFROM:+0800
TZOFFSETTO:+0800
TZNAME:+08
DTSTART:20250101T000000
END:STANDARD
END:VTIMEZONE
BEGIN:VEVENT
DTSTART;TZID=Asia/Kuala_Lumpur:20260418T100000
DTEND;TZID=Asia/Kuala_Lumpur:20260418T113000
DTSTAMP:20260424T053951
CREATED:20260403T082338Z
LAST-MODIFIED:20260403T082338Z
UID:3359-1776506400-1776511800@pekanlenga.nadi.my
SUMMARY:Kidsventure : Webinar
DESCRIPTION:
URL:https://pekanlenga.nadi.my/event/kidsventure-webinar-4/
END:VEVENT
BEGIN:VEVENT
DTSTART;TZID=Asia/Kuala_Lumpur:20260418T143000
DTEND;TZID=Asia/Kuala_Lumpur:20260418T163000
DTSTAMP:20260424T053951
CREATED:20260403T082258Z
LAST-MODIFIED:20260403T082258Z
UID:3357-1776522600-1776529800@pekanlenga.nadi.my
SUMMARY:Dilea : Webinar Bahasa Melayu Edisi 6
DESCRIPTION:
URL:https://pekanlenga.nadi.my/event/dilea-webinar-bahasa-melayu-edisi-6/
END:VEVENT
END:VCALENDAR