BEGIN:VCALENDAR
VERSION:2.0
PRODID:-//NADI Pekan Lenga - ECPv6.15.13.1//NONSGML v1.0//EN
CALSCALE:GREGORIAN
METHOD:PUBLISH
X-WR-CALNAME:NADI Pekan Lenga
X-ORIGINAL-URL:https://pekanlenga.nadi.my
X-WR-CALDESC:Events for NADI Pekan Lenga
REFRESH-INTERVAL;VALUE=DURATION:PT1H
X-Robots-Tag:noindex
X-PUBLISHED-TTL:PT1H
BEGIN:VTIMEZONE
TZID:Asia/Kuala_Lumpur
BEGIN:STANDARD
TZOFFSETFROM:+0800
TZOFFSETTO:+0800
TZNAME:+08
DTSTART:20250101T000000
END:STANDARD
END:VTIMEZONE
BEGIN:VEVENT
DTSTART;TZID=Asia/Kuala_Lumpur:20260423T100000
DTEND;TZID=Asia/Kuala_Lumpur:20260423T120000
DTSTAMP:20260423T090147
CREATED:20260403T082610Z
LAST-MODIFIED:20260403T082610Z
UID:3363-1776938400-1776945600@pekanlenga.nadi.my
SUMMARY:Entrepreneur : Webinar
DESCRIPTION:
URL:https://pekanlenga.nadi.my/event/entrepreneur-webinar-3/
END:VEVENT
BEGIN:VEVENT
DTSTART;TZID=Asia/Kuala_Lumpur:20260423T150000
DTEND;TZID=Asia/Kuala_Lumpur:20260423T163000
DTSTAMP:20260423T090147
CREATED:20260403T082530Z
LAST-MODIFIED:20260403T082530Z
UID:3361-1776956400-1776961800@pekanlenga.nadi.my
SUMMARY:Cybersecurity : Webinar
DESCRIPTION:
URL:https://pekanlenga.nadi.my/event/cybersecurity-webinar-6/
END:VEVENT
BEGIN:VEVENT
DTSTART;TZID=Asia/Kuala_Lumpur:20260425T100000
DTEND;TZID=Asia/Kuala_Lumpur:20260425T113000
DTSTAMP:20260423T090147
CREATED:20260403T082704Z
LAST-MODIFIED:20260403T082704Z
UID:3367-1777111200-1777116600@pekanlenga.nadi.my
SUMMARY:Kidsventure : Webinar
DESCRIPTION:
URL:https://pekanlenga.nadi.my/event/kidsventure-webinar-5/
END:VEVENT
BEGIN:VEVENT
DTSTART;TZID=Asia/Kuala_Lumpur:20260425T143000
DTEND;TZID=Asia/Kuala_Lumpur:20260425T163000
DTSTAMP:20260423T090147
CREATED:20260403T082642Z
LAST-MODIFIED:20260403T082642Z
UID:3365-1777127400-1777134600@pekanlenga.nadi.my
SUMMARY:Dilea : Webinar
DESCRIPTION:
URL:https://pekanlenga.nadi.my/event/dilea-webinar-2/
END:VEVENT
END:VCALENDAR