BEGIN:VCALENDAR
VERSION:2.0
PRODID:-//NADI Pekan Lenga - ECPv6.15.13.1//NONSGML v1.0//EN
CALSCALE:GREGORIAN
METHOD:PUBLISH
X-WR-CALNAME:NADI Pekan Lenga
X-ORIGINAL-URL:https://pekanlenga.nadi.my
X-WR-CALDESC:Events for NADI Pekan Lenga
REFRESH-INTERVAL;VALUE=DURATION:PT1H
X-Robots-Tag:noindex
X-PUBLISHED-TTL:PT1H
BEGIN:VTIMEZONE
TZID:Asia/Kuala_Lumpur
BEGIN:STANDARD
TZOFFSETFROM:+0800
TZOFFSETTO:+0800
TZNAME:+08
DTSTART:20250101T000000
END:STANDARD
END:VTIMEZONE
BEGIN:VEVENT
DTSTART;TZID=Asia/Kuala_Lumpur:20260205T153000
DTEND;TZID=Asia/Kuala_Lumpur:20260205T163000
DTSTAMP:20260426T103138
CREATED:20260205T045509Z
LAST-MODIFIED:20260205T045509Z
UID:3220-1770305400-1770309000@pekanlenga.nadi.my
SUMMARY:OPEN TUITION BAHASA MELAYU
DESCRIPTION:
URL:https://pekanlenga.nadi.my/event/open-tuition-bahasa-melayu/
END:VEVENT
BEGIN:VEVENT
DTSTART;TZID=Asia/Kuala_Lumpur:20260205T153000
DTEND;TZID=Asia/Kuala_Lumpur:20260205T163000
DTSTAMP:20260426T103138
CREATED:20260205T045550Z
LAST-MODIFIED:20260205T045550Z
UID:3222-1770305400-1770309000@pekanlenga.nadi.my
SUMMARY:OPEN TUITION MATEMATIK
DESCRIPTION:
URL:https://pekanlenga.nadi.my/event/open-tuition-matematik/
END:VEVENT
BEGIN:VEVENT
DTSTART;TZID=Asia/Kuala_Lumpur:20260207T100000
DTEND;TZID=Asia/Kuala_Lumpur:20260207T110000
DTSTAMP:20260426T103138
CREATED:20260205T045716Z
LAST-MODIFIED:20260205T060820Z
UID:3226-1770458400-1770462000@pekanlenga.nadi.my
SUMMARY:WEBINAR KEMPEN INTERNET SELAMAT
DESCRIPTION:
URL:https://pekanlenga.nadi.my/event/webinar-kempen-internet-selamat-3/
END:VEVENT
BEGIN:VEVENT
DTSTART;TZID=Asia/Kuala_Lumpur:20260207T140000
DTEND;TZID=Asia/Kuala_Lumpur:20260207T150000
DTSTAMP:20260426T103138
CREATED:20260205T045638Z
LAST-MODIFIED:20260205T045638Z
UID:3224-1770472800-1770476400@pekanlenga.nadi.my
SUMMARY:TINY TECHIES - WEBINAR
DESCRIPTION:
URL:https://pekanlenga.nadi.my/event/tiny-techies-webinar/
END:VEVENT
BEGIN:VEVENT
DTSTART;TZID=Asia/Kuala_Lumpur:20260209T100000
DTEND;TZID=Asia/Kuala_Lumpur:20260209T103000
DTSTAMP:20260426T103138
CREATED:20260205T060926Z
LAST-MODIFIED:20260205T060926Z
UID:3230-1770631200-1770633000@pekanlenga.nadi.my
SUMMARY:WELLBEING - HEALTH TIPS
DESCRIPTION:
URL:https://pekanlenga.nadi.my/event/wellbeing-health-tips-2/
END:VEVENT
BEGIN:VEVENT
DTSTART;TZID=Asia/Kuala_Lumpur:20260209T153000
DTEND;TZID=Asia/Kuala_Lumpur:20260209T163000
DTSTAMP:20260426T103138
CREATED:20260205T060902Z
LAST-MODIFIED:20260205T060902Z
UID:3228-1770651000-1770654600@pekanlenga.nadi.my
SUMMARY:OPEN TUITION SEJARAH
DESCRIPTION:
URL:https://pekanlenga.nadi.my/event/open-tuition-sejarah/
END:VEVENT
BEGIN:VEVENT
DTSTART;TZID=Asia/Kuala_Lumpur:20260211T090000
DTEND;TZID=Asia/Kuala_Lumpur:20260211T163000
DTSTAMP:20260426T103138
CREATED:20260205T060949Z
LAST-MODIFIED:20260205T060949Z
UID:3232-1770800400-1770827400@pekanlenga.nadi.my
SUMMARY:MAHIR JAHIT & MASAK
DESCRIPTION:
URL:https://pekanlenga.nadi.my/event/mahir-jahit-masak/
END:VEVENT
BEGIN:VEVENT
DTSTART;TZID=Asia/Kuala_Lumpur:20260214T100000
DTEND;TZID=Asia/Kuala_Lumpur:20260214T110000
DTSTAMP:20260426T103138
CREATED:20260205T061039Z
LAST-MODIFIED:20260205T061039Z
UID:3236-1771063200-1771066800@pekanlenga.nadi.my
SUMMARY:ESPORT- KELAS
DESCRIPTION:
URL:https://pekanlenga.nadi.my/event/esport-kelas/
END:VEVENT
BEGIN:VEVENT
DTSTART;TZID=Asia/Kuala_Lumpur:20260214T143000
DTEND;TZID=Asia/Kuala_Lumpur:20260214T163000
DTSTAMP:20260426T103138
CREATED:20260205T061014Z
LAST-MODIFIED:20260205T061014Z
UID:3234-1771079400-1771086600@pekanlenga.nadi.my
SUMMARY:LIVE CLASS- F5
DESCRIPTION:
URL:https://pekanlenga.nadi.my/event/live-class-f5/
END:VEVENT
END:VCALENDAR